BEGIN:VCALENDAR
VERSION:2.0
PRODID:-//Plone.org//NONSGML plone.app.event//EN
X-WR-TIMEZONE:Europe/Madrid
BEGIN:VEVENT
SUMMARY:doctoral thesis reading
DTSTART;TZID=Europe/Madrid:20240916T150000
DTEND;TZID=Europe/Madrid:20240916T160000
DTSTAMP:20260420T063604Z
UID:cfd2324b09db42a7a264bda09a77ceba@www.fisica.upc.edu
CONTACT:https://atenea-phd.upc.edu/mod/finalthesis/download.php?hash=03e58
 d963abf93553725553935968f815fb2326c
CREATED:20240912T081833Z
DESCRIPTION:Jeimmy Nataly Buitrago Leiva
LAST-MODIFIED:20240912T082002Z
URL:https://www.fisica.upc.edu/en/events/doctoral-thesis
END:VEVENT
BEGIN:VTIMEZONE
TZID:Europe/Madrid
X-LIC-LOCATION:Europe/Madrid
BEGIN:DAYLIGHT
DTSTART:20240331T030000
TZNAME:CEST
TZOFFSETFROM:+0100
TZOFFSETTO:+0200
END:DAYLIGHT
END:VTIMEZONE
END:VCALENDAR
